BEGIN:VCALENDAR
VERSION:2.0
PRODID:-//Tukios.com/
BEGIN:VEVENT
UID:d81e9865-e776-4c0f-9d48-53a6c087764d@www.franklinfuneral.com
DTSTAMP:20260423T041048Z
DTSTART:20260502T180000Z
DTEND:20260502T200000Z
SUMMARY:Visitation
DESCRIPTION:
URL:https://www.franklinfuneral.com/obituaries/william-slade
LOCATION: 33 Cottage St  Franklin MA 02038
GEO:42.0815886;-71.397749
END:VEVENT
END:VCALENDAR