BEGIN:VCALENDAR
VERSION:2.0
PRODID:-//Tukios.com/
BEGIN:VEVENT
UID:bc966236-fce0-4384-bf3e-e295ee234d28@www.franklinfuneral.com
DTSTAMP:20260421T044249Z
DTSTART:20260427T140000Z
DTEND:20260427T150000Z
SUMMARY:Funeral Mass
DESCRIPTION:
URL:https://www.franklinfuneral.com/obituaries/walter-bacon
LOCATION:St. Mary's Church 1 Church Square  Franklin MA 02038
GEO:42.0899081;-71.401485
END:VEVENT
END:VCALENDAR