BEGIN:VCALENDAR
VERSION:2.0
PRODID:-//Tukios.com/
BEGIN:VEVENT
UID:9ebba9f1-ff6f-46f6-af3b-d7355c5060e0@www.franklinfuneral.com
DTSTAMP:20260421T044324Z
DTSTART:20260426T180000Z
DTEND:20260426T210000Z
SUMMARY:Visitation
DESCRIPTION:
URL:https://www.franklinfuneral.com/obituaries/walter-bacon
LOCATION: 33 Cottage St  Franklin MA 02038
GEO:42.0815886;-71.397749
END:VEVENT
END:VCALENDAR