BEGIN:VCALENDAR
VERSION:2.0
PRODID:-//Tukios.com/
BEGIN:VEVENT
UID:1a35f8f3-d79b-4832-9e2e-ed09d9c2846b@www.franklinfuneral.com
DTSTAMP:20260425T200044Z
DTSTART:20260509T150000Z
DTEND:20260509T170000Z
SUMMARY:Celebration of Life
DESCRIPTION:
URL:https://www.franklinfuneral.com/obituaries/roberta-albus
LOCATION:Oteri Funeral Home 33 Cottage Street  Franklin MA 02038
GEO:42.0815886;-71.397749
END:VEVENT
END:VCALENDAR