BEGIN:VCALENDAR
VERSION:2.0
PRODID:-//Tukios.com/
BEGIN:VEVENT
UID:000e60ee-3fcc-46a1-9564-5d5dc2736214@www.franklinfuneral.com
DTSTAMP:20260423T041212Z
DTSTART:20260430T161500Z
DTEND:20260430T171500Z
SUMMARY:Burial
DESCRIPTION:
URL:https://www.franklinfuneral.com/obituaries/margaret-webb
LOCATION: 176 Beaver St  Franklin MA 02038
GEO:42.0874204;-71.4089124
END:VEVENT
END:VCALENDAR