BEGIN:VCALENDAR
VERSION:2.0
PRODID:-//Tukios.com/
BEGIN:VEVENT
UID:63578fd7-9211-436c-b0e4-fcff04a147ed@www.franklinfuneral.com
DTSTAMP:20260423T041445Z
DTSTART:20260430T150000Z
DTEND:20260430T160000Z
SUMMARY:Funeral Service
DESCRIPTION:
URL:https://www.franklinfuneral.com/obituaries/margaret-webb
LOCATION: 33 Cottage St  Franklin MA 02038
GEO:42.0815886;-71.397749
END:VEVENT
END:VCALENDAR