BEGIN:VCALENDAR
VERSION:2.0
PRODID:-//Tukios.com/
BEGIN:VEVENT
UID:2a49eea7-db9e-4a68-b4c7-8d49c2b217cc@www.franklinfuneral.com
DTSTAMP:20260423T041656Z
DTSTART:20260429T200000Z
DTEND:20260429T230000Z
SUMMARY:Visitation
DESCRIPTION:
URL:https://www.franklinfuneral.com/obituaries/margaret-webb
LOCATION: 33 Cottage St  Franklin MA 02038
GEO:42.0815886;-71.397749
END:VEVENT
END:VCALENDAR