BEGIN:VCALENDAR
VERSION:2.0
PRODID:-//Tukios.com/
BEGIN:VEVENT
UID:8042091d-4cfa-4fc5-90db-9acef8069208@www.franklinfuneral.com
DTSTAMP:20260422T191148Z
DTSTART:20260503T170000Z
DTEND:20260503T190000Z
SUMMARY:Visitation
DESCRIPTION:
URL:https://www.franklinfuneral.com/obituaries/kevin-beschi
LOCATION: 33 Cottage St  Franklin MA 02038
GEO:42.0815886;-71.397749
END:VEVENT
END:VCALENDAR