BEGIN:VCALENDAR
VERSION:2.0
PRODID:-//Tukios.com/
BEGIN:VEVENT
UID:c1bab8a0-9970-4be2-93d3-d0931c0dfdf2@www.franklinfuneral.com
DTSTAMP:20260420T054555Z
DTSTART:20260422T160000Z
DTEND:20260422T170000Z
SUMMARY:Burial
DESCRIPTION:
URL:https://www.franklinfuneral.com/obituaries/edward-taddeo
LOCATION: 176 Beaver St  Franklin MA 02038
GEO:42.0874204;-71.4089124
END:VEVENT
END:VCALENDAR