BEGIN:VCALENDAR
VERSION:2.0
PRODID:-//Tukios.com/
BEGIN:VEVENT
UID:fc293f30-cfa4-4649-8aeb-b65d94423885@www.franklinfuneral.com
DTSTAMP:20260421T050058Z
DTSTART:20260428T150000Z
DTEND:20260428T160000Z
SUMMARY:Celebration of Life
DESCRIPTION:
URL:https://www.franklinfuneral.com/obituaries/cameron-koback
LOCATION:Saint John Vianney Catholic Church 3655 Diamond Hill Rd  
	Cumberland RI 02864
GEO:41.9876971;-71.4112397
END:VEVENT
END:VCALENDAR