BEGIN:VCALENDAR
VERSION:2.0
PRODID:-//Tukios.com/
BEGIN:VEVENT
UID:745757e3-086f-4d98-91e4-4fe086e5b3fb@www.franklinfuneral.com
DTSTAMP:20260421T050331Z
DTSTART:20260427T200000Z
DTEND:20260427T230000Z
SUMMARY:Visitation
DESCRIPTION:
URL:https://www.franklinfuneral.com/obituaries/cameron-koback
LOCATION: 33 Cottage St  Franklin MA 02038
GEO:42.0815886;-71.397749
END:VEVENT
END:VCALENDAR